BEGIN:VCALENDAR
VERSION:2.0
PRODID:-//Oberbayerische Unimog Freunde - ECPv6.15.20//NONSGML v1.0//EN
CALSCALE:GREGORIAN
METHOD:PUBLISH
X-ORIGINAL-URL:https://www.unimogfreunde.de
X-WR-CALDESC:Veranstaltungen für Oberbayerische Unimog Freunde
REFRESH-INTERVAL;VALUE=DURATION:PT1H
X-Robots-Tag:noindex
X-PUBLISHED-TTL:PT1H
BEGIN:VTIMEZONE
TZID:Europe/Berlin
BEGIN:DAYLIGHT
TZOFFSETFROM:+0100
TZOFFSETTO:+0200
TZNAME:CEST
DTSTART:20250330T010000
END:DAYLIGHT
BEGIN:STANDARD
TZOFFSETFROM:+0200
TZOFFSETTO:+0100
TZNAME:CET
DTSTART:20251026T010000
END:STANDARD
BEGIN:DAYLIGHT
TZOFFSETFROM:+0100
TZOFFSETTO:+0200
TZNAME:CEST
DTSTART:20260329T010000
END:DAYLIGHT
BEGIN:STANDARD
TZOFFSETFROM:+0200
TZOFFSETTO:+0100
TZNAME:CET
DTSTART:20261025T010000
END:STANDARD
BEGIN:DAYLIGHT
TZOFFSETFROM:+0100
TZOFFSETTO:+0200
TZNAME:CEST
DTSTART:20270328T010000
END:DAYLIGHT
BEGIN:STANDARD
TZOFFSETFROM:+0200
TZOFFSETTO:+0100
TZNAME:CET
DTSTART:20271031T010000
END:STANDARD
BEGIN:DAYLIGHT
TZOFFSETFROM:+0100
TZOFFSETTO:+0200
TZNAME:CEST
DTSTART:20280326T010000
END:DAYLIGHT
BEGIN:STANDARD
TZOFFSETFROM:+0200
TZOFFSETTO:+0100
TZNAME:CET
DTSTART:20281029T010000
END:STANDARD
END:VTIMEZONE
BEGIN:VEVENT
DTSTART;TZID=Europe/Berlin:20260604T180000
DTEND;TZID=Europe/Berlin:20260607T170000
DTSTAMP:20260419T180111
CREATED:20260410T212340Z
LAST-MODIFIED:20260410T212341Z
UID:53028-1780596000-1780851600@www.unimogfreunde.de
SUMMARY:7. Internationales Oldtimertreffen Schwimmbach
DESCRIPTION:
URL:https://www.unimogfreunde.de/event/7-internationales-oldtimertreffen-schwimmbach/
LOCATION:Festgelände Schwimmbach\, Leibfinger Straße 41\, Schwimmbach\, 94339\, Deutschland
ATTACH;FMTTYPE=image/jpeg:https://www.unimogfreunde.de/wp-content/uploads/default_featured_image.jpg
ORGANIZER;CN="Oldtimer Freunde Schwimmbach e.V.":MAILTO:heikeboelsterl@gmx.de
END:VEVENT
BEGIN:VEVENT
DTSTART;TZID=Europe/Berlin:20260605T100000
DTEND;TZID=Europe/Berlin:20260607T170000
DTSTAMP:20260419T180111
CREATED:20260116T144618Z
LAST-MODIFIED:20260116T144619Z
UID:52590-1780653600-1780851600@www.unimogfreunde.de
SUMMARY:20 Jahre Unimog-Museum
DESCRIPTION:20 Jahre Unimog-Museum unter dem Motto„Unimog-Museum and friends“ \n\n\n\nGroßes Jubiläumsfest zur Feier von 20 Jahren Unimog-Museum und 70 Jahren U 411Vom 5. Juni bis 7. Juni lädt das Unimog-Museum zu einem besonderen Höhepunkt im Jubiläumsjahr ein: Beim großen Festwochenende „Unimog-Museum and Friends“ feiert das Museum seine zwanzig jährige Erfolgsgeschichte.Gemeinsam mit zahlreichen Partnern gestaltet das Museum ein vielfältiges\, familienfreundliches Programm\, das Technikgeschichte\, Gemeinschaft und Erlebnisreichtum verbindet.Insbesondere der Sonntag dieses Festwochenendes wird dabei ganz im Zeichen des 70-jährigen Jubiläums des kultigen U 411 stehen.Ein Fest für die ganze Familie – Dank starker Partner„Unimog-Museum and Friends“ ist ein Gemeinschaftsprojekt unserer Partner und Unterstützer. Sie alle tragen dazu bei\, ein buntes und abwechslungsreiches Programm für Besucher jeden Alters zu gestalten.Für Familien und Kinder stehen besondere Attraktionen bereit: Am Samstag wird es einen großen Blaulicht-Tag geben. Am Sonntag präsentiert die BRH Rettungshundestaffel Rastatt-Mittelbaden e. V. ihre Arbeit und zeigt in spannenden Vorführungen eindrucksvoll das Zusammenspiel zwischen Hundeführer und Hund im Einsatz.Mitmachaktionen\, Wissensstationen und interaktive Elementen sorgen zudem für beste Unterhaltung\, insbesondere für die jüngsten Besucher. Dazu kommen Technikvorführungen\, Infostände\, Kulinarik und Begegnungen mit Unimog-Freunden aus nah und fern – ein Wochenende\, das Tradition\, Gemeinschaft und Freude perfekt verbindet.20 Jahre Unimog-Museum – Eine Erfolgsgeschichte der RegionDas Jubiläumsfest würdigt zugleich die Entwicklung des Unimog-Museums selbst. Seit seiner Eröffnung im Jahr 2006 hat sich das Museum zu einem lebendigen Zentrum für Technikbegeisterte\, Familien und internationale Unimog-Fans entwickelt. Mit rund 50.000 Besucherinnen und Besuchern im Jahr\, wechselnden Ausstellungen\, Mitfahrangeboten und außergewöhnlichen Events hat das Haus weit über die Region hinaus Strahlkraft gewonnen.Das Festwochenende bietet die Gelegenheit\, gemeinsam mit langjährigen Unterstützern und Partnern auf zwei Jahrzehnte Engagement\, Wachstum und Begeisterung zurückzublicken – und voller Energie nach vorn zu schauen.70 Jahre U 411 – Meilenstein der Unimog-GeschichteDer Unimog U 411\, der 1956 in Produktion ging\, zählt bis heute zu den bekanntesten und beliebtesten Baureihen der Unimog-Historie. Mit seiner kompakten Bauweise\, seiner beeindruckenden Geländegängigkeit und seiner Vielseitigkeit war er ein Fahrzeug\, das den landwirtschaftlichen\, kommunalen und handwerklichen Einsatz revolutionierte. Der U 411 steht wie kaum ein anderer Unimog für Robustheit\, Flexibilität und den Geist des Erfindertums\, der die Marke seit jeher prägt.Am Jubiläumssonntag wird diese Ikone besonders gefeiert – mit historischen Fahrzeugen\, fachkundigen Präsentationen und spannenden Einblicken in seine Bedeutung für mehrere Generationen von Anwendern. \n\n\n\nTicketpreise: regulär: 10\,00 €/ ermäßigt: 9\,00 €/ Familie: 25\,00 €
URL:https://www.unimogfreunde.de/event/20-jahre-unimog-museum/
LOCATION:Unimog Museum\, An der B 462 / Ausfahrt Schloss Rotenfels\, Gaggenau\, 76571\, Deutschland
CATEGORIES:Oldtimertreffen
ATTACH;FMTTYPE=image/jpeg:https://www.unimogfreunde.de/wp-content/uploads/Unimog_Museum_4c_xs.jpg
ORGANIZER;CN="Unimog Museum e.V.":MAILTO:info@unimog-museum.de
END:VEVENT
BEGIN:VEVENT
DTSTART;TZID=Europe/Berlin:20260613T090000
DTEND;TZID=Europe/Berlin:20260613T210000
DTSTAMP:20260419T180111
CREATED:20260318T080738Z
LAST-MODIFIED:20260318T080739Z
UID:52636-1781341200-1781384400@www.unimogfreunde.de
SUMMARY:Unimog & Bulldog-Treffen Bischofswiesen
DESCRIPTION:
URL:https://www.unimogfreunde.de/event/unimog-bulldog-treffen-bischofswiesen/
LOCATION:Festplatz Bischofswiesen\, Greinswiesenweg 3\, Bischofswiesen\, Bavaria\, 83483\, Germany
CATEGORIES:Oldtimertreffen
ATTACH;FMTTYPE=image/jpeg:https://www.unimogfreunde.de/wp-content/uploads/default_featured_image.jpg
END:VEVENT
BEGIN:VEVENT
DTSTART;TZID=Europe/Berlin:20260704T090000
DTEND;TZID=Europe/Berlin:20260704T170000
DTSTAMP:20260419T180111
CREATED:20260410T213043Z
LAST-MODIFIED:20260410T213618Z
UID:53032-1783155600-1783184400@www.unimogfreunde.de
SUMMARY:5. Garchinger Oldtimertreffen
DESCRIPTION:
URL:https://www.unimogfreunde.de/event/5-garchinger-oldtimertreffen/
LOCATION:Bürgerpark Garching\, Hüterweg\, Garching\, Bayern\, 85748\, Deutschland
ATTACH;FMTTYPE=image/jpeg:https://www.unimogfreunde.de/wp-content/uploads/default_featured_image.jpg
ORGANIZER;CN="MSC Garching":MAILTO:info@msc-garching.de
END:VEVENT
BEGIN:VEVENT
DTSTART;TZID=Europe/Berlin:20260718T090000
DTEND;TZID=Europe/Berlin:20260718T170000
DTSTAMP:20260419T180111
CREATED:20260112T082108Z
LAST-MODIFIED:20260112T082109Z
UID:52561-1784365200-1784394000@www.unimogfreunde.de
SUMMARY:4. Oldtimertreffen Miesbach
DESCRIPTION:nähere Infos auf der Homepage des Veranstalters
URL:https://www.unimogfreunde.de/event/4-oldtimertreffen-miesbach/
LOCATION:Miesbach\, Miesbach\, Bavaria\, 83714\, Germany
CATEGORIES:Oldtimertreffen
ATTACH;FMTTYPE=image/jpeg:https://www.unimogfreunde.de/wp-content/uploads/default_featured_image.jpg
ORGANIZER;CN="Oldtimerfreunde-Miesbach e.V.":MAILTO:vorstandpohl@oldtimerfreunde-miesbach.de
END:VEVENT
BEGIN:VEVENT
DTSTART;TZID=Europe/Berlin:20260719T090000
DTEND;TZID=Europe/Berlin:20260719T140000
DTSTAMP:20260419T180111
CREATED:20260110T215116Z
LAST-MODIFIED:20260114T052913Z
UID:52528-1784451600-1784469600@www.unimogfreunde.de
SUMMARY:Sonntagsstammtisch mit Unimog auf der Alm
DESCRIPTION:Der genaue Ort wird rechtzeitig hier bekannt gegeben.
URL:https://www.unimogfreunde.de/event/sonntagsstammtisch-mit-unimog-3/
LOCATION:wird noch bekannt gegeben\, Bavaria\, Germany
CATEGORIES:Stammtisch
ATTACH;FMTTYPE=image/jpeg:https://www.unimogfreunde.de/wp-content/uploads/250711_Logo_Obb_Unimog_Freunde_eV_2027_QUADRAT_FREI_xs.jpg
ORGANIZER;CN="Oberbayerische Unimog Freunde e.V.":MAILTO:info@unimogfreunde.de
END:VEVENT
BEGIN:VEVENT
DTSTART;TZID=Europe/Berlin:20260719T090000
DTEND;TZID=Europe/Berlin:20260719T170000
DTSTAMP:20260419T180111
CREATED:20260113T060017Z
LAST-MODIFIED:20260113T060017Z
UID:52572-1784451600-1784480400@www.unimogfreunde.de
SUMMARY:Oldtimertreffen Großkarolinenfeld
DESCRIPTION:nähere Infos beim Veranstalter
URL:https://www.unimogfreunde.de/event/oldtimertreffen-grosskarolinenfeld/
LOCATION:Großkarolinenfeld\, Karolinenplatz\, Großkarolinenfeld\, Bavaria\, 83109\, Germany
CATEGORIES:Oldtimertreffen
ATTACH;FMTTYPE=image/jpeg:https://www.unimogfreunde.de/wp-content/uploads/default_featured_image.jpg
ORGANIZER;CN="Oldtimerfreunde Gro%C3%9Fkarolinenfeld":MAILTO:s-daxeder@web.de
END:VEVENT
BEGIN:VEVENT
DTSTART;TZID=Europe/Berlin:20260731T100000
DTEND;TZID=Europe/Berlin:20260802T170000
DTSTAMP:20260419T180111
CREATED:20260116T143950Z
LAST-MODIFIED:20260116T144726Z
UID:52588-1785492000-1785690000@www.unimogfreunde.de
SUMMARY:80 Jahre Unimog
DESCRIPTION:„80 Jahre Unimog“ – Das große Jubiläumswochenende feiert eine Legende\n\n\n\nDas Unimog-Museum lädt vom 31. Juli bis 2. August 2026 zum großen Höhepunkt seines Festjahres ein: Mit einem Unimog & MB-trac-Treffen und einem dreitägigen Jubiläumsfest\, mit buntem Rahmenprogramm und zahlreichen Attraktionen\, feiert das Museum 80 Jahre Unimog – eine Ikone der Nutzfahrzeug-\, Offroad- und Abenteuerkultur.Begleitet wird das Fest von einer großen Sonderausstellung „80 Jahre Unimog“. Um die gesamte Bandbreite der legendären Fahrzeuge zeigen zu können\, werden die Exponate im Laufe des Jubiläumsjahres regelmäßig ausgetauscht. So erhalten die Besucherinnen und Besucher die einmalige Gelegenheit\, im Verlauf des Jahres sämtliche Baureihen des Unimog im Museum zu erleben.Das Wochenende bildet den strahlenden Höhepunkt des Jubiläumstriples und bringt Fans\, Besitzerinnen und Besitzer\, Technikliebhaber und Weltenbummler aus ganz Deutschland und darüber hinaus nach Gaggenau.Wie schon bei den früheren Unimog-Treffen erwartet das Museum eine beeindruckende Vielfalt an Fahrzeugen und Teilnehmern sowie Vorträgen aus aller Welt. Das Museumsgelände wird zum lebendigen Camp voller internationaler Begegnungen und Geschichten.Besucherinnen und Besucher dürfen sich auf zahlreiche Highlights freuen:Spannende Reisevorträge und Expeditionserzählungen\, Offroad- und Technikvorführungen sowie Outdoor-Camp.Ein großer Teil des Geländes wird zum Treffpunkt der Community: Austausch\, Technikgespräche und die typische\, offene Unimog-Atmosphäre. Darüber hinaus gibt es in enger Zusammenarbeit mit den Partnern des Museums\, unter anderem der Unimog Club Gaggenau eine Vielzahl an Ausstellern die sich und ihr Offroad-Equipment\, Reiseausrüstung\, Literatur\, Bekleidung und Sammlerstücke präsentieren.Natürlich dürfen Expertenrunden & Werkstattgespräche nicht fehlen.Ein buntes Familien- und Kinderprogramm mit Mitfahrten\, Bastel- und Spielangebote sowie Aktionen rund um den Unimog machen das Fest zum Erlebniswochenende für alle Generationen.Sonderausstellung „80 Jahre Unimog“ – Die komplette Geschichte im JahresverlaufDas Jubiläumswochenende wird von der großen Sonderausstellung „80 Jahre Unimog“ begleitet. Um die enorme Breite der Baureihen vollständig präsentieren zu können\, werden im Verlauf des Jahres die Exponate mehrfach ausgetauscht.So haben Besucherinnen und Besucher die seltene Gelegenheit\, viele Baureihen des Unimog in einem einzigen Jahr im Museum zu sehen – von frühen Prototypen über den legendären U 411 bis hin zu den aktuellen Hochleistungsmodellen.Ein Fest für Fans\, Familien und WeltenbummlerDas Jubiläumswochenende vereint Technik\, Abenteuer\, Geschichte und Gemeinschaft – eine Hommage an 80 Jahre Innovationskraft\, Zuverlässigkeit und globale Einsatzbereitschaft. Was den Unimog so besonders macht\, ist nicht nur seine Technik\, sondern die Menschen\, die ihn fahren\, pflegen\, weiterentwickeln und mit ihm die Welt entdecken.Das Fest bietet ihnen allen eine Bühne – und lädt gleichzeitig Familien\, Interessierte und Neugierige ein\, Teil der großen Unimog-Gemeinschaft zu werden. \n\n\n\nTicketpreise: regulär: 10\,00 €/ ermäßigt: 9\,00 €/ Familie: 25\,00 €/ Familie PFZ: 24\,00 €
URL:https://www.unimogfreunde.de/event/80-jahre-unimog/
LOCATION:Unimog Museum\, An der B 462 / Ausfahrt Schloss Rotenfels\, Gaggenau\, 76571\, Deutschland
CATEGORIES:Oldtimertreffen,Teilemarkt
ATTACH;FMTTYPE=image/jpeg:https://www.unimogfreunde.de/wp-content/uploads/Unimog_Museum_4c_xs.jpg
ORGANIZER;CN="Unimog Museum e.V.":MAILTO:info@unimog-museum.de
END:VEVENT
BEGIN:VEVENT
DTSTART;TZID=Europe/Berlin:20260809T110000
DTEND;TZID=Europe/Berlin:20260809T170000
DTSTAMP:20260419T180111
CREATED:20251121T114128Z
LAST-MODIFIED:20251121T114152Z
UID:51672-1786273200-1786294800@www.unimogfreunde.de
SUMMARY:Sonntagsstammtisch mit Unimog
DESCRIPTION:19. Sonntagsstammtisch mit Unimog ab 11:00 Uhr in Aufhausen / Weichs bei Dachau.Natürlich sind auch alle MB trac’s herzlich willkommen!Ansprechpartner Ralf Koböken Tel. 0151/23556690
URL:https://www.unimogfreunde.de/event/sonntagsstammtisch-mit-unimog-2/
LOCATION:Aufhausen\, Lindacher Str.\, Weichs\, Bayern\, 85258\, Deutschland
CATEGORIES:Oldtimertreffen,Stammtisch
ATTACH;FMTTYPE=image/jpeg:https://www.unimogfreunde.de/wp-content/uploads/250711_Logo_Obb_Unimog_Freunde_eV_2027_QUADRAT_FREI_xs.jpg
END:VEVENT
BEGIN:VEVENT
DTSTART;TZID=Europe/Berlin:20260814T080000
DTEND;TZID=Europe/Berlin:20260816T170000
DTSTAMP:20260419T180111
CREATED:20251013T100709Z
LAST-MODIFIED:20251013T100710Z
UID:51579-1786694400-1786899600@www.unimogfreunde.de
SUMMARY:UVC-Sommertreffen 2026
DESCRIPTION:Vorankündigung für das Sommertreffen des Unimog-Veteranen-Club.
URL:https://www.unimogfreunde.de/event/uvc-sommertreffen-2026/
LOCATION:Ostwestfalenhalle\, Paderborner Str. 408\, Verl\, 33415\, Germany
CATEGORIES:Oldtimertreffen,Teilemarkt
ATTACH;FMTTYPE=image/png:https://www.unimogfreunde.de/wp-content/uploads/UVC_klein.png
ORGANIZER;CN="Unimog Veteranen Club e.V.":MAILTO:info@u-v-c.de
END:VEVENT
BEGIN:VEVENT
DTSTART;TZID=Europe/Berlin:20260906T093000
DTEND;TZID=Europe/Berlin:20260906T170000
DTSTAMP:20260419T180111
CREATED:20260213T145009Z
LAST-MODIFIED:20260213T145009Z
UID:52604-1788687000-1788714000@www.unimogfreunde.de
SUMMARY:Oldtimer-Treffen St. Leonhard
DESCRIPTION:
URL:https://www.unimogfreunde.de/event/oldtimer-treffen-st-leonhard-2/
CATEGORIES:Oldtimertreffen
ATTACH;FMTTYPE=image/jpeg:https://www.unimogfreunde.de/wp-content/uploads/default_featured_image.jpg
END:VEVENT
BEGIN:VEVENT
DTSTART;TZID=Europe/Berlin:20260911T080000
DTEND;TZID=Europe/Berlin:20260913T170000
DTSTAMP:20260419T180111
CREATED:20251012T180410Z
LAST-MODIFIED:20251012T180410Z
UID:51575-1789113600-1789318800@www.unimogfreunde.de
SUMMARY:UCG-Jahrestreffen 2026 in Wilbertoord\, Holland
DESCRIPTION:Die Oberbayerischen Unimog Freunde werden wieder teilnehmen.Genauere Details werden zeitnah geteilt.
URL:https://www.unimogfreunde.de/event/ucg-jahrestreffen-2026-in-wilbertoord-holland/
LOCATION:Wilbertoord\, Wilbertoord\, Nordbrabant\, 5455\, Netherlands
CATEGORIES:Oldtimertreffen,Teilemarkt
ATTACH;FMTTYPE=image/jpeg:https://www.unimogfreunde.de/wp-content/uploads/UCG_klein.jpg
ORGANIZER;CN="Unimog-Club Gaggenau e.V.":MAILTO:info@unimog-club-gaggenau.de
END:VEVENT
BEGIN:VEVENT
DTSTART;TZID=Europe/Berlin:20260917T090000
DTEND;TZID=Europe/Berlin:20260920T170000
DTSTAMP:20260419T180111
CREATED:20260113T055801Z
LAST-MODIFIED:20260113T055845Z
UID:52575-1789635600-1789923600@www.unimogfreunde.de
SUMMARY:24. Traktor-WM Großglockner
DESCRIPTION:Für 2026 könnt ihr euch schon das Wochenende von 17. bis 20. September 2026 vormerken.  \n\n\n\nAn diesem Wochenende wird es wieder heißen „Auffi muas i“ und hunderte Oldtimer Traktoren werden den Glockner bezwingen.  \n\n\n\nUnimogs sind nicht zugelassen. \n\n\n\nDie Anmeldung zur 24. Oldtimer Traktor WM 2026 startet am 2. Februar 2026 ab 9:00 Uhr! \n\n\n\nWir informieren euch über alle weiteren Inforamtionen über unsere Website.  \n\n\n\nWir freuen uns schon\, wenn wir euch zur 24. Oldtimer Traktor WM 2026 wieder sehen.  \n\n\n\nEuer Oldtimer Traktor WM – Team \n\n\n\nSimone\, Manuela\, Ana\, Saskia\, Christoph\, Marco und Markus
URL:https://www.unimogfreunde.de/event/24-traktor-wm-grossglockner/
LOCATION:Großglockner\, L 271 Kassenstelle Ferleiten\, Bruck an der Glocknerstraße\, A-5671\, Austria
CATEGORIES:Oldtimertreffen
ATTACH;FMTTYPE=image/jpeg:https://www.unimogfreunde.de/wp-content/uploads/default_featured_image.jpg
ORGANIZER;CN="Tourismusverband BRUCK FUSCH | GROSSGLOCKNER":MAILTO:willkommen@bruck-fusch.at
END:VEVENT
BEGIN:VEVENT
DTSTART;TZID=Europe/Berlin:20261023T190000
DTEND;TZID=Europe/Berlin:20261023T220000
DTSTAMP:20260419T180111
CREATED:20260102T131855Z
LAST-MODIFIED:20260102T131855Z
UID:52408-1792782000-1792792800@www.unimogfreunde.de
SUMMARY:Unimog-Stammtisch
DESCRIPTION:Wir wollen gemeinsam gemütlich zusammenkommen\, angeregte Dieselgespräche über UNIMOG- und MB trac führen und uns Filme aus dem oberbayerischen UNIMOG- & MB trac-Archiv ansehen.
URL:https://www.unimogfreunde.de/event/unimog-stammtisch-4/
LOCATION:Wirtshaus am Sportpark\, Am Sportpark 1\, Grasbrunn\, 85630
CATEGORIES:Stammtisch,Versammlung
ATTACH;FMTTYPE=image/jpeg:https://www.unimogfreunde.de/wp-content/uploads/250711_Logo_Obb_Unimog_Freunde_eV_2027_QUADRAT_FREI_xs.jpg
ORGANIZER;CN="Oberbayerische Unimog Freunde e.V.":MAILTO:info@unimogfreunde.de
END:VEVENT
BEGIN:VEVENT
DTSTART;TZID=Europe/Berlin:20270527T100000
DTEND;TZID=Europe/Berlin:20270530T170000
DTSTAMP:20260419T180111
CREATED:20260113T060508Z
LAST-MODIFIED:20260113T060532Z
UID:52581-1811412000-1811696400@www.unimogfreunde.de
SUMMARY:30 Jahre Oberbayerische Unimog Freunde
DESCRIPTION:Vorankündigung – wir feiern unser 30-jähriges Jubiläum mit einem großen Unimog- und MB trac Treffen!
URL:https://www.unimogfreunde.de/event/30-jahre-oberbayerische-unimog-freunde/
LOCATION:Golkofen\, Golkofen 1\, Egling\, Bavaria\, 82544\, Germany
CATEGORIES:Oldtimertreffen,Teilemarkt
ATTACH;FMTTYPE=image/jpeg:https://www.unimogfreunde.de/wp-content/uploads/250711_Logo_Obb_Unimog_Freunde_eV_2027_QUADRAT_FREI_xs.jpg
ORGANIZER;CN="Oberbayerische Unimog Freunde e.V.":MAILTO:info@unimogfreunde.de
END:VEVENT
BEGIN:VEVENT
DTSTART;TZID=Europe/Berlin:20270910T120000
DTEND;TZID=Europe/Berlin:20270912T170000
DTSTAMP:20260419T180111
CREATED:20260213T150122Z
LAST-MODIFIED:20260213T150122Z
UID:52607-1820577600-1820768400@www.unimogfreunde.de
SUMMARY:Schleppertreffen Schmiechen
DESCRIPTION:
URL:https://www.unimogfreunde.de/event/schleppertreffen-schmiechen/
LOCATION:Schmiechen\, Bavaria\, 86511\, Germany
CATEGORIES:Oldtimertreffen
ATTACH;FMTTYPE=image/jpeg:https://www.unimogfreunde.de/wp-content/uploads/default_featured_image.jpg
ORGANIZER;CN="Schmiechen":MAILTO:sfs.staible@web.de
END:VEVENT
BEGIN:VEVENT
DTSTART;TZID=Europe/Berlin:20270912T090000
DTEND;TZID=Europe/Berlin:20270912T170000
DTSTAMP:20260419T180111
CREATED:20260113T060753Z
LAST-MODIFIED:20260113T060754Z
UID:52584-1820739600-1820768400@www.unimogfreunde.de
SUMMARY:Oldtimer-Treffen Deining
DESCRIPTION:Näheres folgt …
URL:https://www.unimogfreunde.de/event/oldtimer-treffen-deining-2/
LOCATION:Deining\, Deining\, Bavaria\, 82544\, Germany
CATEGORIES:Oldtimertreffen
ATTACH;FMTTYPE=image/jpeg:https://www.unimogfreunde.de/wp-content/uploads/default_featured_image.jpg
END:VEVENT
END:VCALENDAR